BEGIN:VCALENDAR
VERSION:2.0
PRODID:-//Kemp Care Network - ECPv6.15.20//NONSGML v1.0//EN
CALSCALE:GREGORIAN
METHOD:PUBLISH
X-WR-CALNAME:Kemp Care Network
X-ORIGINAL-URL:https://kempcarenetwork.org
X-WR-CALDESC:Events for Kemp Care Network
REFRESH-INTERVAL;VALUE=DURATION:PT1H
X-Robots-Tag:noindex
X-PUBLISHED-TTL:PT1H
BEGIN:VTIMEZONE
TZID:America/Toronto
BEGIN:DAYLIGHT
TZOFFSETFROM:-0500
TZOFFSETTO:-0400
TZNAME:EDT
DTSTART:20250309T070000
END:DAYLIGHT
BEGIN:STANDARD
TZOFFSETFROM:-0400
TZOFFSETTO:-0500
TZNAME:EST
DTSTART:20251102T060000
END:STANDARD
BEGIN:DAYLIGHT
TZOFFSETFROM:-0500
TZOFFSETTO:-0400
TZNAME:EDT
DTSTART:20260308T070000
END:DAYLIGHT
BEGIN:STANDARD
TZOFFSETFROM:-0400
TZOFFSETTO:-0500
TZNAME:EST
DTSTART:20261101T060000
END:STANDARD
BEGIN:DAYLIGHT
TZOFFSETFROM:-0500
TZOFFSETTO:-0400
TZNAME:EDT
DTSTART:20270314T070000
END:DAYLIGHT
BEGIN:STANDARD
TZOFFSETFROM:-0400
TZOFFSETTO:-0500
TZNAME:EST
DTSTART:20271107T060000
END:STANDARD
END:VTIMEZONE
BEGIN:VEVENT
DTSTART;TZID=America/Toronto:20260424T100000
DTEND;TZID=America/Toronto:20260424T113000
DTSTAMP:20260419T122605
CREATED:20260205T042420Z
LAST-MODIFIED:20260407T210435Z
UID:12157-1777024800-1777030200@kempcarenetwork.org
SUMMARY:Death Cafe
DESCRIPTION:A Death Café is a relaxed\, friendly gathering where people come together to talk openly about death and end-of-life topics. There’s no agenda or counseling\, just conversation\, listening\, and shared reflection in a warm\, supportive space. \nWhere: Dr. Kemp’s House – Adult Hospice (Great Room)\n277 Stone Church Road E. Hamilton\, ON L9B 1B1 \nWhen: Every last Friday of each month \nTime: 10:00am – 11:30am \nCoffee\, tea & snacks provided \nNO REGISTRATION IS REQUIRED\nOPEN TO ALL MEMBERS OF THE COMMUNITY
URL:https://kempcarenetwork.org/event/death-cafe/
LOCATION:Dr. Kemp’s House\, 277 Stone Church Rd. E\, Hamilton\, Ontario\, L9B 1B1\, Canada
CATEGORIES:Upcoming Events
ATTACH;FMTTYPE=image/png:https://kempcarenetwork.org/wp-content/uploads/2026/02/New-Event-Page-Cover-Images-2026-8.png
END:VEVENT
BEGIN:VEVENT
DTSTART;TZID=America/Toronto:20260219T193000
DTEND;TZID=America/Toronto:20260219T210000
DTSTAMP:20260419T122605
CREATED:20251126T062948Z
LAST-MODIFIED:20260109T024815Z
UID:12120-1771529400-1771534800@kempcarenetwork.org
SUMMARY:Wild Magic Supporting Keaton’s House
DESCRIPTION:Step into a world of wonder and help build hope! \nThe Wild Magic Show at the Greg Frewin Theatre in Niagara Falls brings together world-class magicians Greg Frewin and Alexandra for an unforgettable evening of jaw-dropping illusions\, daring escapes\, and family fun. \nYour night of Wild Magic supports Keaton’s House – Paul Paletta Children’s Hospice\, the Region’s first home being built to care for children with life-limiting illnesses and the families who love them. \nExperience the magic. Feel the impact. \nTickets just $48 with proceeds to Keaton’s House – Paul Paletta Children’s Hospice. \nDinner option available at an extra cost. \nBuy Tickets: Click here and select the date (Feb 19th)
URL:https://kempcarenetwork.org/event/wild-magic-supporting-keatons-house/
LOCATION:Greg Frewin Theatrical Centre\, 5781 Ellen Ave\, Niagara Falls\, ON\, L2G 3P8\, Canada
CATEGORIES:Upcoming Events
ATTACH;FMTTYPE=image/png:https://kempcarenetwork.org/wp-content/uploads/2025/11/Untitled-design-5.png
END:VEVENT
END:VCALENDAR